BEGIN:VCALENDAR
VERSION:2.0
PRODID:-//CAGD - ECPv6.15.20//NONSGML v1.0//EN
CALSCALE:GREGORIAN
METHOD:PUBLISH
X-ORIGINAL-URL:https://cagdgolf.org
X-WR-CALDESC:Events for CAGD
REFRESH-INTERVAL;VALUE=DURATION:PT1H
X-Robots-Tag:noindex
X-PUBLISHED-TTL:PT1H
BEGIN:VTIMEZONE
TZID:America/Phoenix
BEGIN:STANDARD
TZOFFSETFROM:-0700
TZOFFSETTO:-0700
TZNAME:MST
DTSTART:20190101T000000
END:STANDARD
END:VTIMEZONE
BEGIN:VEVENT
DTSTART;VALUE=DATE:20201119
DTEND;VALUE=DATE:20201120
DTSTAMP:20260420T015710
CREATED:20191109T180215Z
LAST-MODIFIED:20200815T012944Z
UID:3370-1605744000-1605830399@cagdgolf.org
SUMMARY:Briarwood - Sun City West\, AZ
DESCRIPTION:CANCELLED \nDue to continued caution for social distancing and large gatherings\, CAGD has cancelled this event. \nOur most popular tournament! Although Briarwood does not normally allow public play\, they open their beautiful course to CAGD members one day every year. Take advantage of this once-a-year opportunity to enjoy great golf and great food. \n\nRegistration\nOct 30 – Nov 9 \nShotgun Start\n8:30 am \nMax Players\n92 (46 teams) \nFormat\n2-person net best ball\n \nPrice\n$75 per person \nPrice Includes\n\ngreen fees\ncart\nrange balls\npre-game coffee & pastries\npost-game luncheon\nprizes for gross & net winners in all flights\n\n\n\nImportant Registration & Payment Information\n\nEntries will be accepted via regular mail only. Online registration is no longer available.\nMail one check for $150 payable to CAGD\, along with your Entry Form.\nEntries received prior to the first day of the Registration Period will be DISCARDED.\nMake sure we receive your entry during the Registration Period. All entries will be processed after the last day of Registration.\nIf at the end of the Registration Period\, we have received more entries than spots available\, a random drawing will determine which teams are placed on the waiting list.\n\n\n\nDownload Entry Form
URL:https://cagdgolf.org/event/2020-briarwood/
LOCATION:Briarwood Country Club\, 20800 N 135th Ave\, Sun City West\, 85375\, United States
CATEGORIES:2020 Events
ATTACH;FMTTYPE=image/jpeg:https://cagdgolf.org/wp-content/uploads/event-briarwood-1.jpg
ORGANIZER;CN="Jody McComb":MAILTO:tournaments@cagdgolf.org
END:VEVENT
BEGIN:VEVENT
DTSTART;VALUE=DATE:20200914
DTEND;VALUE=DATE:20200915
DTSTAMP:20260420T015710
CREATED:20191017T230838Z
LAST-MODIFIED:20200815T012904Z
UID:3368-1600041600-1600127999@cagdgolf.org
SUMMARY:Corte Bella - Sun City West\, AZ
DESCRIPTION:CANCELLED \nDue to continued caution for social distancing and large gatherings\, CAGD has cancelled this event. \nTake advantage of a rare opportunity to play at this exclusive\, guard-gated private golf club community. The community and course are both stunning\, and the people and staff are welcoming and friendly. Our CAGD members always have a wonderful time here. \n\nRegistration\nAug 24 – Sep 4 \nShotgun Start\n7:00 am \nMax Players\n100 (50 teams) \nFormat\n2-person net best ball\n \nPrice\n$75 per person \nPrice Includes\n\ngreen fees\ncart\nrange balls\npre-game coffee & pastries\npost-game luncheon\nprizes for gross & net winners in all flights\n\n\n\nImportant Registration & Payment Information\n\nEntries will be accepted via regular mail only. Online registration is no longer available.\nMail one check for $150 payable to CAGD\, along with your Entry Form.\nEntries received prior to the first day of the Registration Period will be DISCARDED.\nMake sure we receive your entry during the Registration Period. All entries will be processed after the last day of Registration.\nIf at the end of the Registration Period\, we have received more entries than spots available\, a random drawing will determine which teams are placed on the waiting list.\n\n\n\nDownload Entry Form
URL:https://cagdgolf.org/event/2020-corte-bella/
LOCATION:Corte Bella Golf Club\, 22129 N Mission Dr\, Sun City West\, AZ\, 85375
CATEGORIES:2020 Events
ATTACH;FMTTYPE=image/jpeg:https://cagdgolf.org/wp-content/uploads/event-corte-bella.jpg
ORGANIZER;CN="Jody McComb":MAILTO:tournaments@cagdgolf.org
END:VEVENT
BEGIN:VEVENT
DTSTART;VALUE=DATE:20200608
DTEND;VALUE=DATE:20200609
DTSTAMP:20260420T015710
CREATED:20191017T230537Z
LAST-MODIFIED:20200815T001524Z
UID:3365-1591574400-1591660799@cagdgolf.org
SUMMARY:Raven Golf Club - Phoenix\, AZ
DESCRIPTION:CANCELLED \nDue to continued caution for social distancing and large gatherings\, CAGD has cancelled this event. \nYou’ll forget you’re in the desert when playing this mature\, established course with lush fairways lined with Georgia pines and beautiful landscaping. Although it’s a summer event\, you’ll feel like you’ve escaped to Flagstaff or Prescott for the day. \n\n\nRegistration\nMay 18 – May 29 \nShotgun Start\n8:00 am  \nMax Players\n60 (30 teams) \nFormat\n2-person net best ball\n \nPrice\n$75 per person \nPrice Includes\n\ngreen fees\ncart\nrange balls\npre-game coffee & pastries\npost-game luncheon\nprizes for gross & net winners in all flights\n\n\n \nImportant Registration & Payment Information\n\nEntries will be accepted via regular mail only. Online registration is no longer available.\nMail one check for $150 payable to CAGD\, along with your Entry Form.\nEntries received prior to the first day of the Registration Period will be DISCARDED.\nMake sure we receive your entry during the Registration Period. All entries will be processed after the last day of Registration.\nIf at the end of the Registration Period\, we have received more entries than spots available\, a random drawing will determine which teams are placed on the waiting list.\n\n\n\nDownload Entry Form
URL:https://cagdgolf.org/event/2020-raven/
LOCATION:Raven Golf Club\, 3636 E Baseline Rd\, Phoenix\, AZ\, 85042
CATEGORIES:2020 Events
ATTACH;FMTTYPE=image/jpeg:https://cagdgolf.org/wp-content/uploads/event-raven.jpg
ORGANIZER;CN="Jody McComb":MAILTO:tournaments@cagdgolf.org
END:VEVENT
BEGIN:VEVENT
DTSTART;VALUE=DATE:20200511
DTEND;VALUE=DATE:20200512
DTSTAMP:20260420T015710
CREATED:20191017T230215Z
LAST-MODIFIED:20200510T183629Z
UID:3362-1589155200-1589241599@cagdgolf.org
SUMMARY:Desert Canyon - Fountain Hills\, AZ
DESCRIPTION:CANCELLED \nDue to recommendations from the CDC and Whitehouse guidelines about gatherings of more than 10 people\, CAGD has cancelled this event. \nGet ready for some adventure\, as this course will take you up and down the mountain as you wind your way through the canyons. Views from atop the high elevations are stunning\, and you can catch a glimpse of the fountain from some of the holes\, so be sure to bring your camera. \n\n\nRegistration\nApr 20 – May 1 \nShotgun Start\n8:00 am  \nMax Players\n80 (40 teams) \nFormat\n2-person net best ball\n \nPrice\n$75 per person \nPrice Includes\n\ngreen fees\ncart\nrange balls\npre-game coffee & pastries\npost-game luncheon\nprizes for gross & net winners in all flights\n\n\n \nImportant Registration & Payment Information\n\nEntries will be accepted via regular mail only. Online registration is no longer available.\nMail one check for $150 payable to CAGD\, along with your Entry Form.\nEntries received prior to the first day of the Registration Period will be DISCARDED.\nMake sure we receive your entry during the Registration Period. All entries will be processed after the last day of Registration.\nIf at the end of the Registration Period\, we have received more entries than spots available\, a random drawing will determine which teams are placed on the waiting list.\n\n\n\nDownload Entry Form
URL:https://cagdgolf.org/event/2020-desert-canyon/
LOCATION:Desert Canyon Golf Club\, 10440 N Indian Wells Dr\, Fountain Hills\, AZ\, 85268
CATEGORIES:2020 Events
ATTACH;FMTTYPE=image/jpeg:https://cagdgolf.org/wp-content/uploads/event-desert-canyon.jpg
ORGANIZER;CN="Jody McComb":MAILTO:tournaments@cagdgolf.org
END:VEVENT
BEGIN:VEVENT
DTSTART;VALUE=DATE:20200420
DTEND;VALUE=DATE:20200421
DTSTAMP:20260420T015710
CREATED:20190220T204643Z
LAST-MODIFIED:20200510T183312Z
UID:2141-1587340800-1587427199@cagdgolf.org
SUMMARY:Tatum Ranch - Cave Creek\, AZ
DESCRIPTION:CANCELLED \nDue to recommendations from the CDC and Whitehouse guidelines about gatherings of more than 10 people\, CAGD has cancelled this event. \nThis very exclusive members-only club is located in the high Sonoran Desert near North Scottsdale. After your challenging round of golf\, you can drop by Scottsdale’s fabulous stores for some therapy shopping before you head home. \n\n\nRegistration\nMar 23 – Apr 9 \nShotgun Start\n7:30 am \nMax Players\n80 (46 teams) \nFormat\n2-person net best ball\n \nPrice\n$75 per person \nPrice Includes\n\ngreen fees\ncart\nrange balls\npre-game coffee & pastries\npost-game luncheon\nprizes for gross & net winners in all flights\n\n\n \nImportant Registration & Payment Information\n\nEntries will be accepted via regular mail only. Online registration is no longer available.\nMail one check for $150 payable to CAGD\, along with your Entry Form.\nEntries received prior to the first day of the Registration Period will be DISCARDED.\nMake sure we receive your entry during the Registration Period. All entries will be processed after the last day of Registration.\nIf at the end of the Registration Period\, we have received more entries than spots available\, a random drawing will determine which teams are placed on the waiting list.\n\n\n\nDownload Entry Form
URL:https://cagdgolf.org/event/2020-tatum-ranch/
LOCATION:Tatum Ranch Golf Club\, 29888 N Tatum Ranch Dr\, Cave Creek\, AZ\, 85331
CATEGORIES:2020 Events
ATTACH;FMTTYPE=image/jpeg:https://cagdgolf.org/wp-content/uploads/event-tatum-ranch.jpg
ORGANIZER;CN="Jody McComb":MAILTO:tournaments@cagdgolf.org
END:VEVENT
END:VCALENDAR