BEGIN:VCALENDAR
VERSION:2.0
PRODID:-//CAGD - ECPv6.15.20//NONSGML v1.0//EN
CALSCALE:GREGORIAN
METHOD:PUBLISH
X-ORIGINAL-URL:https://cagdgolf.org
X-WR-CALDESC:Events for CAGD
REFRESH-INTERVAL;VALUE=DURATION:PT1H
X-Robots-Tag:noindex
X-PUBLISHED-TTL:PT1H
BEGIN:VTIMEZONE
TZID:America/Phoenix
BEGIN:STANDARD
TZOFFSETFROM:-0700
TZOFFSETTO:-0700
TZNAME:MST
DTSTART:20180101T000000
END:STANDARD
END:VTIMEZONE
BEGIN:VEVENT
DTSTART;VALUE=DATE:20191107
DTEND;VALUE=DATE:20191108
DTSTAMP:20260422T082918
CREATED:20181215T183223Z
LAST-MODIFIED:20200510T185918Z
UID:656-1573084800-1573171199@cagdgolf.org
SUMMARY:Los Caballeros in Wickenburg\, AZ
DESCRIPTION:Always one of our most popular and sold out tournaments\, golfers at Los Caballeros are sometimes greeted on the course by horses and riders from the Dude Ranch\, or by herds of wild horses running through the desert washes. \n\n\nRegistration\nOct 14 – Oct 20 \nShotgun Start\n9:00 am \nMax Players\n100 (50 teams) \nFormat\n2-person net best ball\n \nPrice\n$70 per person \nPrice Includes\n\ngreen fees\ncart\nrange balls\npre-game coffee & pastries\npost-game luncheon\nprizes for gross & net winners in all flights\n\n\n \n \nRegistration & Payment Information\n\nEntries will be accepted via regular mail or online registration throughout the entire Registration Period.\nEntries are NOT processed on a “first-in” basis. It is only necessary to make sure we receive your entry during the Registration Period.\nNo tournament entries will be confirmed or wait-listed until after the Registration Period has ended. All entries (both mail-in and online) will be processed at once\, after the last day of Registration.\nIf at the end of the Registration Period\, we have received more entries than spots available\, a random drawing will determine which teams are placed on the waiting list.\nIf you are entering via regular mail\, send ONE check for $140 with your entry\, payable to CAGD.\nIf you are entering online\, DO NOT send payment with your entry! You will need to send a Zelle payment within 48 hours of being notified you are in the tournament.\nEntries received by regular mail or online prior to the first day of the Registration Period will be DISCARDED.\nZelle payments received by players before they have been notified by the Tournament Director that they are on the tournament roster\, will be refunded\, minus a $15 service fee.\n\n\nEnter online or via regular mail\n\nRegister Online: Enter online by clicking the “Register Online” button and completing the online form. The “live” form will be available on the first day of registration. You will need to send a Zelle payment within 48 hours of being notified you are in the tournament\, so please make sure you are familiar with how to use Zelle.\n[rtec-registration-form hidden=”true”]\nRegister by Mail: Download and complete the fillable form for mail-in registration. Mail the completed form\, along with ONE single check payable to CAGD for $140. Mailing address is on the form.\n\nMail-in Entry Form
URL:https://cagdgolf.org/event/2019-los-caballeros/
LOCATION:Los Caballeros Golf Club\, 551 S Vulture Mine Rd\, Wickenburg\, AZ\, 85390
CATEGORIES:2019 Events
ATTACH;FMTTYPE=image/jpeg:https://cagdgolf.org/wp-content/uploads/event-los-caballeros.jpg
ORGANIZER;CN="Margaret Stephens":MAILTO:tournaments@cagdgolf.org
END:VEVENT
BEGIN:VEVENT
DTSTART;VALUE=DATE:20190916
DTEND;VALUE=DATE:20190917
DTSTAMP:20260422T082918
CREATED:20181215T183040Z
LAST-MODIFIED:20200510T185657Z
UID:653-1568592000-1568678399@cagdgolf.org
SUMMARY:Oakwood in Sun Lakes\, AZ
DESCRIPTION:Oakwood is a very open and playable course that is normally open only to residents of the Sun Lakes Community. The course always welcomes us with great service and great food for our post-game luncheon. \n\n\nRegistration\nAug 26 – Sep 11 \nShotgun Start\n8:00 am \nMax Players\n100 (50 teams) \nFormat\n2-person net best ball\n \nPrice\n$70 per person \nPrice Includes\n\ngreen fees\ncart\nrange balls\npre-game coffee & pastries\npost-game luncheon\nprizes for gross & net winners in all flights\n\n\n \n \nRegistration & Payment Information\n\nEntries will be accepted via regular mail or online registration throughout the entire Registration Period.\nEntries are NOT processed on a “first-in” basis. It is only necessary to make sure we receive your entry during the Registration Period.\nNo tournament entries will be confirmed or wait-listed until after the Registration Period has ended. All entries (both mail-in and online) will be processed at once\, after the last day of Registration.\nIf at the end of the Registration Period\, we have received more entries than spots available\, a random drawing will determine which teams are placed on the waiting list.\nIf you are entering via regular mail\, send ONE check for $140 with your entry\, payable to CAGD.\nIf you are entering online\, DO NOT send payment with your entry! You will need to send a Zelle payment within 48 hours of being notified you are in the tournament.\nEntries received by regular mail or online prior to the first day of the Registration Period will be DISCARDED.\nZelle payments received by players before they have been notified by the Tournament Director that they are on the tournament roster\, will be refunded\, minus a $15 service fee.\n\n\nEnter online or via regular mail\n\nRegister Online: Enter online by clicking the “Register Online” button and completing the online form. The “live” form will be available on the first day of registration. You will need to send a Zelle payment within 48 hours of being notified you are in the tournament\, so please make sure you are familiar with how to use Zelle.\n[rtec-registration-form hidden=”true”]\nRegister by Mail: Download and complete the fillable form for mail-in registration. Mail the completed form\, along with ONE single check payable to CAGD for $140. Mailing address is on the form.\n\nMail-in Entry Form
URL:https://cagdgolf.org/event/2019-oakwood/
LOCATION:Oakwood Golf Club\, 24215 S Oakwood Blvd\, Sun Lakes\, AZ\, 85248
CATEGORIES:2019 Events
ATTACH;FMTTYPE=image/jpeg:https://cagdgolf.org/wp-content/uploads/event-oakwood.jpg
ORGANIZER;CN="Margaret Stephens":MAILTO:tournaments@cagdgolf.org
END:VEVENT
BEGIN:VEVENT
DTSTART;VALUE=DATE:20190610
DTEND;VALUE=DATE:20190611
DTSTAMP:20260422T082918
CREATED:20181215T182841Z
LAST-MODIFIED:20200510T190311Z
UID:650-1560124800-1560211199@cagdgolf.org
SUMMARY:Orange Tree in Scottsdale\, AZ
DESCRIPTION:Orange Tree is one of Scottsdale’s most popular golf vacation destinations. The course will challenge you\, and if you’re feeling tired after your round\, they have staff available to pamper you (pampering not included in price). \n\n\nRegistration\nMay 20 – May 26 \nShotgun Start\n7:00 am \nMax Players\n80 (40 teams) \nFormat\n2-person net best ball\n \nPrice\n$70 per person \nPrice Includes\n\ngreen fees\ncart\nrange balls\npre-game coffee & pastries\npost-game luncheon\nprizes for gross & net winners in all flights\n\n\n \n \nRegistration & Payment Information\n\nEntries will be accepted via regular mail or online registration throughout the entire Registration Period.\nEntries are NOT processed on a “first-in” basis. It is only necessary to make sure we receive your entry during the Registration Period.\nNo tournament entries will be confirmed or wait-listed until after the Registration Period has ended. All entries (both mail-in and online) will be processed at once\, after the last day of Registration.\nIf at the end of the Registration Period\, we have received more entries than spots available\, a random drawing will determine which teams are placed on the waiting list.\nIf you are entering via regular mail\, send ONE check for $140 with your entry\, payable to CAGD.\nIf you are entering online\, DO NOT send payment with your entry! You will need to send a Zelle payment within 48 hours of being notified you are in the tournament.\nEntries received by regular mail or online prior to the first day of the Registration Period will be DISCARDED.\nZelle payments received by players before they have been notified by the Tournament Director that they are on the tournament roster\, will be refunded\, minus a $15 service fee.\n\n\nEnter online or via regular mail\n\nRegister Online: Enter online by clicking the “Register Online” button and completing the online form. The “live” form will be available on the first day of registration. You will need to send a Zelle payment within 48 hours of being notified you are in the tournament\, so please make sure you are familiar with how to use Zelle.\n[rtec-registration-form hidden=”true”]\nRegister by Mail: Download and complete the fillable form for mail-in registration. Mail the completed form\, along with ONE single check payable to CAGD for $140. Mailing address is on the form.\n\nMail-in Entry Form
URL:https://cagdgolf.org/event/2019-orange-tree/
LOCATION:Orange Tree Golf Club\, 10601 N 56th St\, Scottsdale\, AZ\, 85254
CATEGORIES:2019 Events
ATTACH;FMTTYPE=image/jpeg:https://cagdgolf.org/wp-content/uploads/event-orange-tree.jpg
ORGANIZER;CN="Margaret Stephens":MAILTO:tournaments@cagdgolf.org
END:VEVENT
BEGIN:VEVENT
DTSTART;VALUE=DATE:20190513
DTEND;VALUE=DATE:20190514
DTSTAMP:20260422T082918
CREATED:20181215T162559Z
LAST-MODIFIED:20200510T190247Z
UID:644-1557705600-1557791999@cagdgolf.org
SUMMARY:Alta Mesa in Mesa\, AZ
DESCRIPTION:Alta Mesa Country Club is a a very challenging members-only course that boasts lightening fast greens. CAGD members can take advantage of a rare opportunity to experience this beautiful course. \n\n\nRegistration\nApr 29 – May 03 \nShotgun Start\n8:00 am \nMax Players\n100 (50 teams) \nFormat\n2-person net best ball\n \nPrice\n$70 per person \nPrice Includes\n\ngreen fees\ncart\nrange balls\npre-game coffee & pastries\npost-game luncheon\nprizes for gross & net winners in all flights\n\n\n \n \nRegistration & Payment Information\n\nEntries will be accepted via regular mail or online registration throughout the entire Registration Period.\nEntries are NOT processed on a “first-in” basis. It is only necessary to make sure we receive your entry during the Registration Period.\nNo tournament entries will be confirmed or wait-listed until after the Registration Period has ended. All entries (both mail-in and online) will be processed at once\, after the last day of Registration.\nIf at the end of the Registration Period\, we have received more entries than spots available\, a random drawing will determine which teams are placed on the waiting list.\nIf you are entering via regular mail\, send ONE check for $140 with your entry\, payable to CAGD.\nIf you are entering online\, DO NOT send payment with your entry! You will need to send a Zelle payment within 48 hours of being notified you are in the tournament.\nEntries received by regular mail or online prior to the first day of the Registration Period will be DISCARDED.\nZelle payments received by players before they have been notified by the Tournament Director that they are on the tournament roster\, will be refunded\, minus a $15 service fee.\n\n\nEnter online or via regular mail\n\nRegister Online: Enter online by clicking the “Register Online” button and completing the online form. The “live” form will be available on the first day of registration. You will need to send a Zelle payment within 48 hours of being notified you are in the tournament\, so please make sure you are familiar with how to use Zelle.\n[rtec-registration-form hidden=”true”]\nRegister by Mail: Download and complete the fillable form for mail-in registration. Mail the completed form\, along with ONE single check payable to CAGD for $140. Mailing address is on the form.\n\nMail-in Entry Form
URL:https://cagdgolf.org/event/2019-alta-mesa/
LOCATION:Alta Mesa Golf Club\, 1460 N Alta Mesa Dr\, Mesa\, 85205\, United States
CATEGORIES:2019 Events
ATTACH;FMTTYPE=image/jpeg:https://cagdgolf.org/wp-content/uploads/event-alta-mesa.jpg
ORGANIZER;CN="Margaret Stephens":MAILTO:tournaments@cagdgolf.org
END:VEVENT
BEGIN:VEVENT
DTSTART;VALUE=DATE:20190422
DTEND;VALUE=DATE:20190423
DTSTAMP:20260422T082918
CREATED:20181214T183922Z
LAST-MODIFIED:20200510T190226Z
UID:631-1555891200-1555977599@cagdgolf.org
SUMMARY:Briarwood in Sun City West\, AZ
DESCRIPTION:Briarwood Country Club is a private course that is always in great condition. Although Briarwood is not normally open for public play\, they welcome CAGD members to enjoy their great course and great food on this one day a year. \n\n\nRegistration\nApr 08 – Apr 17 \nShotgun Start\n8:00 am \nMax Players\n88 (44 teams) \nFormat\n2-person net best ball\n \nPrice\n$70 per person \nPrice Includes\n\ngreen fees\ncart\nrange balls\npre-game coffee & pastries\npost-game luncheon\nprizes for gross & net winners in all flights\n\n\n \nHow to pay entry fees\n\nYou can pay online with Zelle (recommended)\, or send a check via regular U.S. mail.\nIf you’ve never used Zelle\, you can learn more here: Zelle Instructions\nPayments sent with Zelle prior to the official Entry Date will be refunded\, and you will need to RESEND payment on or after the official opening date.\n\n\n \nEnter online or via regular mail\nIMPORTANT: Registrations are confirmed in order of FULL PAYMENT RECEIVED\, so registering online and sending payment with Zelle is faster and can help guarantee your spot\, especially in events that fill up quickly. \n\nRegister Online (preferred): You can enter online by clicking the “Register Online” button below and completing the online form. The “live” form will be available by 7:00am on the first day of registration. Complete the information on the form\, and send ONE single payment of $140 via Zelle to zelle@cagdgolf.org.\n[rtec-registration-form hidden=”true”]\nRegister by Mail: Download and complete the fillable form for mail-in registration. Mail the completed form with ONE single check for $140 to the tournament director. Follow instructions on the form.\n\nMail-in Entry Form
URL:https://cagdgolf.org/event/2019-briarwood/
LOCATION:Briarwood Country Club\, 20800 N 135th Ave\, Sun City West\, 85375\, United States
CATEGORIES:2019 Events
ATTACH;FMTTYPE=image/jpeg:https://cagdgolf.org/wp-content/uploads/event-briarwood.jpg
ORGANIZER;CN="Margaret Stephens":MAILTO:tournaments@cagdgolf.org
END:VEVENT
END:VCALENDAR